BEGIN:VCALENDAR
VERSION:2.0
PRODID:-//Waldcafe Bad Grönenbach - ECPv6.15.11//NONSGML v1.0//EN
CALSCALE:GREGORIAN
METHOD:PUBLISH
X-WR-CALNAME:Waldcafe Bad Grönenbach
X-ORIGINAL-URL:https://wald-cafe.com
X-WR-CALDESC:Veranstaltungen für Waldcafe Bad Grönenbach
REFRESH-INTERVAL;VALUE=DURATION:PT1H
X-Robots-Tag:noindex
X-PUBLISHED-TTL:PT1H
BEGIN:VTIMEZONE
TZID:Europe/Berlin
BEGIN:DAYLIGHT
TZOFFSETFROM:+0100
TZOFFSETTO:+0200
TZNAME:CEST
DTSTART:20250330T010000
END:DAYLIGHT
BEGIN:STANDARD
TZOFFSETFROM:+0200
TZOFFSETTO:+0100
TZNAME:CET
DTSTART:20251026T010000
END:STANDARD
BEGIN:DAYLIGHT
TZOFFSETFROM:+0100
TZOFFSETTO:+0200
TZNAME:CEST
DTSTART:20260329T010000
END:DAYLIGHT
BEGIN:STANDARD
TZOFFSETFROM:+0200
TZOFFSETTO:+0100
TZNAME:CET
DTSTART:20261025T010000
END:STANDARD
BEGIN:DAYLIGHT
TZOFFSETFROM:+0100
TZOFFSETTO:+0200
TZNAME:CEST
DTSTART:20270328T010000
END:DAYLIGHT
BEGIN:STANDARD
TZOFFSETFROM:+0200
TZOFFSETTO:+0100
TZNAME:CET
DTSTART:20271031T010000
END:STANDARD
END:VTIMEZONE
BEGIN:VEVENT
DTSTART;TZID=Europe/Berlin:20261002T200000
DTEND;TZID=Europe/Berlin:20261003T010000
DTSTAMP:20260422T195701
CREATED:20251102T205001Z
LAST-MODIFIED:20260403T210739Z
UID:2316-1790971200-1790989200@wald-cafe.com
SUMMARY:Ritmo de Salsa Oktober
DESCRIPTION:Salsa\, Bachata\, Merengue\, Cha-Cha-Cha … die schönste Art durchs Leben zu tanzen. 💃 😍🎉 \nLasst uns vor einer atemberaubenden Landschaft\, von der Kraft der Musik inspiriert…die Füße wund tanzen.\nInnen und Außen Location 🌴…\nFiesta Latina mit dem Resident Dj Ardimiento. \nStart 20:00 Uhr \nEintritt  8.-€
URL:https://wald-cafe.com/event/ritmo-de-salsa-oktober/
LOCATION:Bayern
CATEGORIES:Party
ATTACH;FMTTYPE=image/jpeg:https://wald-cafe.com/wp-content/uploads/2025/02/Rithmo-de-Salsa.jpg
END:VEVENT
BEGIN:VEVENT
DTSTART;TZID=Europe/Berlin:20261010T110000
DTEND;TZID=Europe/Berlin:20261010T150000
DTSTAMP:20260422T195701
CREATED:20250223T150335Z
LAST-MODIFIED:20260403T202548Z
UID:2000-1791630000-1791644400@wald-cafe.com
SUMMARY:Kleidertauschparty & Kleiderflohmarkt Oktober
DESCRIPTION:Kleidertauschparty im Waldcafe! \nBringt einfach eure gut erhaltenen Kleidungsstücke mit und tauscht sie gegen tolle neue Teile.\nEine Anmeldung ist nicht notwendig – Ihr könnt einfach vorbei kommen. \nDamit wir am Ende nicht zu viele Kleidungsstücke übrig haben\, die wir wiederum lagern oder „loswerden“ müssen\, bitten wir euch pro Person maximal 10 Teile mitzubringen  \nWer keine Kleidung zum Tauschen hat\, kann einfach vorbei kommen und für 4\,- Euro pro Stück etwas aussuchen.\nDie Einnahmen daraus werden komplett gespendet. \nEs lohnt sich auf jeden Fall\, auch schon ab 11 Uhr da zu sein\, denn wir sammeln immer die übrigen Kleidungsstücke aus den vorherigen Veranstaltungen. Somit ist die Chance groß\, dass ihr auch schon ganz am Anfang tolle Sachen finden werdet.
URL:https://wald-cafe.com/event/kleidertauschparty-10/
LOCATION:Waldcafe\, Kornhofen 5\, Bad Grönenbach\, Bayern\, 87730\, Germany
CATEGORIES:Flohmarkt,Kleidertausch
ATTACH;FMTTYPE=image/jpeg:https://wald-cafe.com/wp-content/uploads/2024/09/Kleidertausch-2026.jpg
END:VEVENT
BEGIN:VEVENT
DTSTART;TZID=Europe/Berlin:20261014T080000
DTEND;TZID=Europe/Berlin:20261014T170000
DTSTAMP:20260422T195701
CREATED:20251103T110710Z
LAST-MODIFIED:20251103T110721Z
UID:2370-1791964800-1791997200@wald-cafe.com
SUMMARY:Aromaabend -  KRAFT VON ÄTHERISCHEN ÖLEN
DESCRIPTION:Finde deine Balance mit der KRAFT VON ÄTHERISCHEN ÖLEN \nTauche ein in die faszinierende Welt der ätherischen Öle und entdecke\, wie du mit natürlichen Düften dein inneres Gleichgewicht stärken kannst.\nAn diesem besonderen Abend darfst du riechen\, spüren und erleben\, wie reine doTERRA-Öle auf Körper\, Geist und Seele wirken. \nGemeinsam nehmen wir uns Zeit\, um zu entschleunigen\, loszulassen und neue Energie zu tanken. Du erfährst\, wie du ätherische Öle ganz einfach in deinen Alltag integrieren kannst – für mehr Wohlbefinden\, innere Ruhe und natürliche Balance. \nWas dich erwartet: \nEinführung in die Welt der ätherischen Öle (mit doTERRA Ölen) \nSanfte Duftreisen – Erfahre ätherische Öle mit all deinen Sinnen. \nAnwendungsmöglichkeiten für Körper\, Emotionen und Energiezentren – Wie kann ich sie für meine Gesundheit einsetzen? \nZeit für Austausch\, Ausprobieren und Genießen – Wie wirken ätherische Öle? \nOb du dich nach mehr Entspannung\, Klarheit\, Energie oder innerer Stabilität sehnst – an diesem Abend findest du Impulse\, die dich auf deinem Weg begleiten. \nZur Anmeldung geht’s hier lang: \nwww.bodyandmindwork.de
URL:https://wald-cafe.com/event/aromaabend-kraft-von-aetherischen-oelen-10/
LOCATION:Waldcafe\, Kornhofen 5\, Bad Grönenbach\, Bayern\, 87730\, Germany
ATTACH;FMTTYPE=image/jpeg:https://wald-cafe.com/wp-content/uploads/2025/07/Basisschulung2026.jpg
END:VEVENT
BEGIN:VEVENT
DTSTART;TZID=Europe/Berlin:20261016T220000
DTEND;TZID=Europe/Berlin:20261017T010000
DTSTAMP:20260422T195701
CREATED:20251103T112056Z
LAST-MODIFIED:20260403T204701Z
UID:2388-1792188000-1792198800@wald-cafe.com
SUMMARY:80s & 90s  Party Oktober
DESCRIPTION:Mach dich bereit für einen unvergesslichen Abend voller Nostalgie\, guter Vibes und echter Feierlaune!Erlebe unsere legendäre 80s/90s Party – direkt am Waldrand\, mitten in der Natur\, mit einzigartiger Atmosphäre und dem besten Sound aus den Kultjahrzehnten. \nUnser DJ bringt die Hits zurück\, die Geschichte geschrieben haben – von Pop bis Rock\, von Funk bis Dancefloor-Classics. \nAn unserer Bar erwarten dich leckere Drinks und coole Specials\, dazu gibt’s feine Snacks und das perfekte Ambiente\, um mit Freunden einen großartigen Abend zu genießen. \nTanz\, feier\, sing mit – und erlebe eine Nacht\, die Erinnerungen weckt und neue schafft! \nWaldcafé Bad GrönenbachDJ Start: 20:00 UhrEintritt frei \nLet the music take you back – wir freuen uns auf dich!
URL:https://wald-cafe.com/event/80s-90s-party-10-oktober/
LOCATION:Waldcafe\, Kornhofen 5\, Bad Grönenbach\, Bayern\, 87730\, Germany
CATEGORIES:Party
ATTACH;FMTTYPE=image/jpeg:https://wald-cafe.com/wp-content/uploads/2025/11/8090-Party-2026.jpg
END:VEVENT
BEGIN:VEVENT
DTSTART;TZID=Europe/Berlin:20261031T190000
DTEND;TZID=Europe/Berlin:20261101T020000
DTSTAMP:20260422T195701
CREATED:20240929T211219Z
LAST-MODIFIED:20260403T200842Z
UID:140-1793473200-1793498400@wald-cafe.com
SUMMARY:Halloween-Dinner
DESCRIPTION:Seit Generationen erzählen sich die Menschen eine alte Legende:\nEinmal im Jahr\, in der Nacht zu Halloween\, erwachen im Wald die Geister vergangener Zeiten. Sie ziehen durch die Bäume\, suchen Wärme\, Licht – und den Duft von frisch zubereiteten Speisen.Früher schlossen die Dorfbewohner in dieser Nacht ihre Häuser fest ab. Doch ein Wirt wagte etwas Neues: Er deckte den Tisch mitten im Wald\, stellte Kerzen auf und bereitete ein üppiges Mahl. Und siehe da – statt Unheil brachten die Geister nur ein Flüstern\, als würden sie mitessen\, unsichtbar zwischen den Menschen. Von da an hieß es: Wer an Halloween im Wald speist\, ist in dieser Nacht beschützt. \nSo entstand die Tradition des Halloween-Dinners im Waldcafé. Jahr für Jahr laden wir Mutige und Neugierige ein\, diese uralte Legende lebendig zu halten. In diesem Jahr erwartet euch ein veganes 7-Gänge-Menü\, das mit herbstlichen Aromen\, Kürbis\, geheimnisvollen Gewürzen und viel Kreativität die Sinne verzaubert. Zwischen Kerzenschein und köstlichen Gängen\, zwischen Lachen und Schaudern verschwimmt die Grenze zwischen Diesseits und Jenseits – und wer weiß\, vielleicht sitzt schon längst ein unsichtbarer Gast neben euch am Tisch… \nKommt und feiert mit uns – und wer danach noch Kraft hat\, bleibt zur Party mit DJ und spooky Drinks. Denn wenn die Schatten tanzen\, will niemand allein nach Hause gehen. \n  \nDie wichtigsten Infos\nHalloween-Dinner\nFreitag\, 31.10.2026 ab 19 Uhr\nWaldcafe Bad Grönenbach\nKornhofen 5\, 87730 Bad Grönenbach \n7 Gänge-Menü mit Grusel-Effekt \n  \nVerkleidung ist Pflicht! \nFür das Dinner müsst ihr euch anmelden. \nAb 22:30 findet eine Halloween-Party mit DJ und leckeren Drinks statt. Für die Party ist keine Anmeldung notwendig und auch Gäste\, die nicht beim Dinner dabei waren\, können spontan vorbeikommen. Der Eintritt ist frei. \nAnmeldung zum Dinner\n\n\n  \n\n\n\nName  \n \n E-Mail-Adresse  \n \n Telefonnummer  \n \n Anzahl Personen  \n \n Allergien und sonstige Hinweise (optional)  \n \nHinweis:\nAlle Speisen und die während des Dinners gereichten Weine sind vegan.\nWir geben unser Bestes\, auf Unverträglichkeiten Rücksicht zu nehmen. Bitte tragt diese hier im Formular ein\, sprecht uns aber zur Sicherheit vor Ort noch einmal darauf an – So können wir gewährleisten\, dass ihr das jeweilige Gericht bedenkenlos essen könnt oder ihr eine Alternative bekommt\, falls wir das Gericht nicht ohne diese Allergene zubereiten können.\n \nIch habe die Datenschutzerklärung gelesen und akzeptiere sie.
URL:https://wald-cafe.com/event/halloween-dinner/
LOCATION:Waldcafe\, Kornhofen 5\, Bad Grönenbach\, Bayern\, 87730\, Germany
ATTACH;FMTTYPE=image/png:https://wald-cafe.com/wp-content/uploads/2024/09/Dinner-e1758835936744.png
END:VEVENT
END:VCALENDAR