BEGIN:VCALENDAR
VERSION:2.0
PRODID:-//Waldcafe Bad Grönenbach - ECPv6.15.11//NONSGML v1.0//EN
CALSCALE:GREGORIAN
METHOD:PUBLISH
X-WR-CALNAME:Waldcafe Bad Grönenbach
X-ORIGINAL-URL:https://wald-cafe.com
X-WR-CALDESC:Veranstaltungen für Waldcafe Bad Grönenbach
REFRESH-INTERVAL;VALUE=DURATION:PT1H
X-Robots-Tag:noindex
X-PUBLISHED-TTL:PT1H
BEGIN:VTIMEZONE
TZID:Europe/Berlin
BEGIN:DAYLIGHT
TZOFFSETFROM:+0100
TZOFFSETTO:+0200
TZNAME:CEST
DTSTART:20250330T010000
END:DAYLIGHT
BEGIN:STANDARD
TZOFFSETFROM:+0200
TZOFFSETTO:+0100
TZNAME:CET
DTSTART:20251026T010000
END:STANDARD
BEGIN:DAYLIGHT
TZOFFSETFROM:+0100
TZOFFSETTO:+0200
TZNAME:CEST
DTSTART:20260329T010000
END:DAYLIGHT
BEGIN:STANDARD
TZOFFSETFROM:+0200
TZOFFSETTO:+0100
TZNAME:CET
DTSTART:20261025T010000
END:STANDARD
BEGIN:DAYLIGHT
TZOFFSETFROM:+0100
TZOFFSETTO:+0200
TZNAME:CEST
DTSTART:20270328T010000
END:DAYLIGHT
BEGIN:STANDARD
TZOFFSETFROM:+0200
TZOFFSETTO:+0100
TZNAME:CET
DTSTART:20271031T010000
END:STANDARD
END:VTIMEZONE
BEGIN:VEVENT
DTSTART;TZID=Europe/Berlin:20260605T200000
DTEND;TZID=Europe/Berlin:20260606T010000
DTSTAMP:20260422T125925
CREATED:20240929T180402Z
LAST-MODIFIED:20260403T210819Z
UID:60-1780689600-1780707600@wald-cafe.com
SUMMARY:Ritmo de Salsa Juni
DESCRIPTION:Salsa\, Bachata\, Merengue\, Cha-Cha-Cha … die schönste Art durchs Leben zu tanzen. 💃 😍🎉 \nLasst uns vor einer atemberaubenden Landschaft\, von der Kraft der Musik inspiriert…die Füße wund tanzen.\nInnen und Außen Location 🌴…\nFiesta Latina mit dem Resident Dj Ardimiento. \nStart 20:00 Uhr \nEintritt  8.-€
URL:https://wald-cafe.com/event/ritmo-de-salsa-06/
LOCATION:Waldcafe\, Kornhofen 5\, Bad Grönenbach\, Bayern\, 87730\, Germany
CATEGORIES:Party
ATTACH;FMTTYPE=image/jpeg:https://wald-cafe.com/wp-content/uploads/2025/02/Rithmo-de-Salsa.jpg
END:VEVENT
BEGIN:VEVENT
DTSTART;TZID=Europe/Berlin:20260610T080000
DTEND;TZID=Europe/Berlin:20260610T170000
DTSTAMP:20260422T125925
CREATED:20251103T110405Z
LAST-MODIFIED:20251103T110417Z
UID:2366-1781078400-1781110800@wald-cafe.com
SUMMARY:Aromaabend -  KRAFT VON ÄTHERISCHEN ÖLEN
DESCRIPTION:Finde deine Balance mit der KRAFT VON ÄTHERISCHEN ÖLEN \nTauche ein in die faszinierende Welt der ätherischen Öle und entdecke\, wie du mit natürlichen Düften dein inneres Gleichgewicht stärken kannst.\nAn diesem besonderen Abend darfst du riechen\, spüren und erleben\, wie reine doTERRA-Öle auf Körper\, Geist und Seele wirken. \nGemeinsam nehmen wir uns Zeit\, um zu entschleunigen\, loszulassen und neue Energie zu tanken. Du erfährst\, wie du ätherische Öle ganz einfach in deinen Alltag integrieren kannst – für mehr Wohlbefinden\, innere Ruhe und natürliche Balance. \nWas dich erwartet: \nEinführung in die Welt der ätherischen Öle (mit doTERRA Ölen) \nSanfte Duftreisen – Erfahre ätherische Öle mit all deinen Sinnen. \nAnwendungsmöglichkeiten für Körper\, Emotionen und Energiezentren – Wie kann ich sie für meine Gesundheit einsetzen? \nZeit für Austausch\, Ausprobieren und Genießen – Wie wirken ätherische Öle? \nOb du dich nach mehr Entspannung\, Klarheit\, Energie oder innerer Stabilität sehnst – an diesem Abend findest du Impulse\, die dich auf deinem Weg begleiten. \nZur Anmeldung geht’s hier lang: \nwww.bodyandmindwork.de
URL:https://wald-cafe.com/event/aromaabend-kraft-von-aetherischen-oelen-06/
LOCATION:Waldcafe\, Kornhofen 5\, Bad Grönenbach\, Bayern\, 87730\, Germany
ATTACH;FMTTYPE=image/jpeg:https://wald-cafe.com/wp-content/uploads/2025/07/Basisschulung2026.jpg
ORGANIZER;CN="Serena":MAILTO:www.bodyandmindwork.de
END:VEVENT
BEGIN:VEVENT
DTSTART;TZID=Europe/Berlin:20260613T110000
DTEND;TZID=Europe/Berlin:20260613T150000
DTSTAMP:20260422T125925
CREATED:20250214T233952Z
LAST-MODIFIED:20260403T202831Z
UID:1954-1781348400-1781362800@wald-cafe.com
SUMMARY:Kleidertauschparty & Kleiderflohmarkt Juni
DESCRIPTION:Kleidertauschparty im Waldcafe! \nBringt einfach eure gut erhaltenen Kleidungsstücke mit und tauscht sie gegen tolle neue Teile.\nEine Anmeldung ist nicht notwendig – Ihr könnt einfach vorbei kommen. \nDamit wir am Ende nicht zu viele Kleidungsstücke übrig haben\, die wir wiederum lagern oder „loswerden“ müssen\, bitten wir euch pro Person maximal 10 Teile mitzubringen  \nWer keine Kleidung zum Tauschen hat\, kann einfach vorbei kommen und für 4\,- Euro pro Stück etwas aussuchen.\nDie Einnahmen daraus werden komplett gespendet. \nEs lohnt sich auf jeden Fall\, auch schon ab 11 Uhr da zu sein\, denn wir sammeln immer die übrigen Kleidungsstücke aus den vorherigen Veranstaltungen. Somit ist die Chance groß\, dass ihr auch schon ganz am Anfang tolle Sachen finden werdet.
URL:https://wald-cafe.com/event/kleidertauschparty-06/
LOCATION:Waldcafe\, Kornhofen 5\, Bad Grönenbach\, Bayern\, 87730\, Germany
CATEGORIES:Flohmarkt,Kleidertausch
ATTACH;FMTTYPE=image/jpeg:https://wald-cafe.com/wp-content/uploads/2024/09/Kleidertausch-2026.jpg
END:VEVENT
BEGIN:VEVENT
DTSTART;TZID=Europe/Berlin:20260619T200000
DTEND;TZID=Europe/Berlin:20260620T010000
DTSTAMP:20260422T125925
CREATED:20251103T090920Z
LAST-MODIFIED:20260403T204803Z
UID:2344-1781899200-1781917200@wald-cafe.com
SUMMARY:80s & 90s  Party Sunset Opening
DESCRIPTION:Mach dich bereit für einen Abend voller Nostalgie\, guter Vibes und Sonnenuntergangszauber! Die Sunset Opening Party läutet die Sommerzeit im Waldcafé ein – der perfekte Start in eine unvergessliche Saison! \nFeiere bei unserer legendären 80s/90s  Sunset Party – direkt am Waldrand\, mitten in der Natur\, mit bester Aussicht und noch besserer Musik. \nUnser DJ heizt euch ordentlich ein mit dem besten Sound der 80er und 90er – von funky bis kultig\, von Pop bis Rock. \nDazu gibt’s erfrischende Drinks wie Aperol Spritz\, Sarti Spritz und andere Sommerlieblinge an unserer Bar.\nLeckere Snacks und das unvergleichliche Ambiente sorgen für den perfekten Start ins Wochenende. \nCoole Leute\, lässige Stimmung und Sonnenuntergangs-Vibes mitten in der Natur – besser kann der Sommer nicht sein!\nKomm vorbei\, bring deine Freunde mit – und feiere mit uns den Sommer! \nWaldcafé Bad Grönenbach\nDJ start 20:00 Uhr\nEintritt frei \nLet the sunset set the vibe – wir freuen uns auf dich!
URL:https://wald-cafe.com/event/80s-90s-party-06-sunset-opening/
LOCATION:Waldcafe\, Kornhofen 5\, Bad Grönenbach\, Bayern\, 87730\, Germany
CATEGORIES:Party
ATTACH;FMTTYPE=image/jpeg:https://wald-cafe.com/wp-content/uploads/2025/11/8090-Party-2026.jpg
END:VEVENT
BEGIN:VEVENT
DTSTART;TZID=Europe/Berlin:20260624T190000
DTEND;TZID=Europe/Berlin:20260624T210000
DTSTAMP:20260422T125925
CREATED:20251103T151256Z
LAST-MODIFIED:20251103T151308Z
UID:2392-1782327600-1782334800@wald-cafe.com
SUMMARY:BINGO Night
DESCRIPTION:Bingo-Abend beim Sunset im Waldcafé \nJeden Mittwoch ab 19:00 Uhr heißt es wieder: „Bingo!“\nGenießt die Sunset-Stimmung auf unserer Terrasse\, leckere Drinks und jede Menge Spaß bei unserem wöchentlichen Bingo-Abend. \nOb alleine\, mit Freunden oder Familie – alle sind herzlich eingeladen\, mitzumachen\, zu lachen und vielleicht sogar einen kleinen Preis zu gewinnen. \nKommt vorbei\, spielt mit und lasst den Abend entspannt ausklingen – bei uns im Waldcafé Bad Grönenbach. \nStart: 19:00 Uhr – immer mittwochs während der Sunsetzeit
URL:https://wald-cafe.com/event/bingo-night-01/
LOCATION:Waldcafe\, Kornhofen 5\, Bad Grönenbach\, Bayern\, 87730\, Germany
ATTACH;FMTTYPE=image/jpeg:https://wald-cafe.com/wp-content/uploads/2025/11/BINGO2026.jpg
END:VEVENT
END:VCALENDAR