BEGIN:VCALENDAR
VERSION:2.0
PRODID:-//Waldcafe Bad Grönenbach - ECPv6.15.11//NONSGML v1.0//EN
CALSCALE:GREGORIAN
METHOD:PUBLISH
X-ORIGINAL-URL:https://wald-cafe.com
X-WR-CALDESC:Veranstaltungen für Waldcafe Bad Grönenbach
REFRESH-INTERVAL;VALUE=DURATION:PT1H
X-Robots-Tag:noindex
X-PUBLISHED-TTL:PT1H
BEGIN:VTIMEZONE
TZID:Europe/Berlin
BEGIN:DAYLIGHT
TZOFFSETFROM:+0100
TZOFFSETTO:+0200
TZNAME:CEST
DTSTART:20250330T010000
END:DAYLIGHT
BEGIN:STANDARD
TZOFFSETFROM:+0200
TZOFFSETTO:+0100
TZNAME:CET
DTSTART:20251026T010000
END:STANDARD
BEGIN:DAYLIGHT
TZOFFSETFROM:+0100
TZOFFSETTO:+0200
TZNAME:CEST
DTSTART:20260329T010000
END:DAYLIGHT
BEGIN:STANDARD
TZOFFSETFROM:+0200
TZOFFSETTO:+0100
TZNAME:CET
DTSTART:20261025T010000
END:STANDARD
BEGIN:DAYLIGHT
TZOFFSETFROM:+0100
TZOFFSETTO:+0200
TZNAME:CEST
DTSTART:20270328T010000
END:DAYLIGHT
BEGIN:STANDARD
TZOFFSETFROM:+0200
TZOFFSETTO:+0100
TZNAME:CET
DTSTART:20271031T010000
END:STANDARD
END:VTIMEZONE
BEGIN:VEVENT
DTSTART;TZID=Europe/Berlin:20260306T200000
DTEND;TZID=Europe/Berlin:20260307T010000
DTSTAMP:20260420T150114
CREATED:20241018T090441Z
LAST-MODIFIED:20260403T210815Z
UID:244-1772827200-1772845200@wald-cafe.com
SUMMARY:Ritmo de Salsa März
DESCRIPTION:Salsa\, Bachata\, Merengue\, Cha-Cha-Cha … die schönste Art durchs Leben zu tanzen. 💃 😍🎉 \nLasst uns vor einer atemberaubenden Landschaft\, von der Kraft der Musik inspiriert…die Füße wund tanzen.\nInnen und Außen Location 🌴…\nFiesta Latina mit dem Resident Dj Ardimiento. \nStart 20:00 Uhr \nEintritt  8.-€
URL:https://wald-cafe.com/event/ritmo-de-salsa-03-2/
LOCATION:Waldcafe\, Kornhofen 5\, Bad Grönenbach\, Bayern\, 87730\, Germany
CATEGORIES:Party
ATTACH;FMTTYPE=image/jpeg:https://wald-cafe.com/wp-content/uploads/2025/02/Rithmo-de-Salsa.jpg
END:VEVENT
BEGIN:VEVENT
DTSTART;TZID=Europe/Berlin:20260311T080000
DTEND;TZID=Europe/Berlin:20260311T170000
DTSTAMP:20260420T150114
CREATED:20251103T103049Z
LAST-MODIFIED:20251103T103059Z
UID:2362-1773216000-1773248400@wald-cafe.com
SUMMARY:Aromaabend -  KRAFT VON ÄTHERISCHEN ÖLEN
DESCRIPTION:Finde deine Balance mit der KRAFT VON ÄTHERISCHEN ÖLEN \nTauche ein in die faszinierende Welt der ätherischen Öle und entdecke\, wie du mit natürlichen Düften dein inneres Gleichgewicht stärken kannst.\nAn diesem besonderen Abend darfst du riechen\, spüren und erleben\, wie reine doTERRA-Öle auf Körper\, Geist und Seele wirken. \nGemeinsam nehmen wir uns Zeit\, um zu entschleunigen\, loszulassen und neue Energie zu tanken. Du erfährst\, wie du ätherische Öle ganz einfach in deinen Alltag integrieren kannst – für mehr Wohlbefinden\, innere Ruhe und natürliche Balance. \nWas dich erwartet: \nEinführung in die Welt der ätherischen Öle (mit doTERRA Ölen) \nSanfte Duftreisen – Erfahre ätherische Öle mit all deinen Sinnen. \nAnwendungsmöglichkeiten für Körper\, Emotionen und Energiezentren – Wie kann ich sie für meine Gesundheit einsetzen? \nZeit für Austausch\, Ausprobieren und Genießen – Wie wirken ätherische Öle? \nOb du dich nach mehr Entspannung\, Klarheit\, Energie oder innerer Stabilität sehnst – an diesem Abend findest du Impulse\, die dich auf deinem Weg begleiten. \nZur Anmeldung geht’s hier lang: \nwww.bodyandmindwork.de
URL:https://wald-cafe.com/event/aromaabend-kraft-von-aetherischen-oelen-03/
LOCATION:Waldcafe\, Kornhofen 5\, Bad Grönenbach\, Bayern\, 87730\, Germany
ATTACH;FMTTYPE=image/jpeg:https://wald-cafe.com/wp-content/uploads/2025/07/Basisschulung2026.jpg
ORGANIZER;CN="Serena":MAILTO:www.bodyandmindwork.de
END:VEVENT
BEGIN:VEVENT
DTSTART;TZID=Europe/Berlin:20260320T200000
DTEND;TZID=Europe/Berlin:20260321T010000
DTSTAMP:20260420T150114
CREATED:20251103T090635Z
LAST-MODIFIED:20260403T204627Z
UID:2341-1774036800-1774054800@wald-cafe.com
SUMMARY:80s & 90s Party März
DESCRIPTION:Mach dich bereit für einen unvergesslichen Abend voller Nostalgie\, guter Vibes und echter Feierlaune!Erlebe unsere legendäre 80s/90s Party – direkt am Waldrand\, mitten in der Natur\, mit einzigartiger Atmosphäre und dem besten Sound aus den Kultjahrzehnten. \nUnser DJ bringt die Hits zurück\, die Geschichte geschrieben haben – von Pop bis Rock\, von Funk bis Dancefloor-Classics. \nAn unserer Bar erwarten dich leckere Drinks und coole Specials\, dazu gibt’s feine Snacks und das perfekte Ambiente\, um mit Freunden einen großartigen Abend zu genießen. \nTanz\, feier\, sing mit – und erlebe eine Nacht\, die Erinnerungen weckt und neue schafft! \nWaldcafé Bad GrönenbachDJ Start: 20:00 UhrEintritt frei \nLet the music take you back – wir freuen uns auf dich!
URL:https://wald-cafe.com/event/80s-90s-party-03-maerz/
LOCATION:Waldcafe\, Kornhofen 5\, Bad Grönenbach\, Bayern\, 87730\, Germany
CATEGORIES:Party
ATTACH;FMTTYPE=image/jpeg:https://wald-cafe.com/wp-content/uploads/2025/11/8090-Party-2026.jpg
END:VEVENT
END:VCALENDAR