BEGIN:VCALENDAR
VERSION:2.0
PRODID:-//Waldcafe Bad Grönenbach - ECPv6.15.11//NONSGML v1.0//EN
CALSCALE:GREGORIAN
METHOD:PUBLISH
X-WR-CALNAME:Waldcafe Bad Grönenbach
X-ORIGINAL-URL:https://wald-cafe.com
X-WR-CALDESC:Veranstaltungen für Waldcafe Bad Grönenbach
REFRESH-INTERVAL;VALUE=DURATION:PT1H
X-Robots-Tag:noindex
X-PUBLISHED-TTL:PT1H
BEGIN:VTIMEZONE
TZID:Europe/Berlin
BEGIN:DAYLIGHT
TZOFFSETFROM:+0100
TZOFFSETTO:+0200
TZNAME:CEST
DTSTART:20250330T010000
END:DAYLIGHT
BEGIN:STANDARD
TZOFFSETFROM:+0200
TZOFFSETTO:+0100
TZNAME:CET
DTSTART:20251026T010000
END:STANDARD
BEGIN:DAYLIGHT
TZOFFSETFROM:+0100
TZOFFSETTO:+0200
TZNAME:CEST
DTSTART:20260329T010000
END:DAYLIGHT
BEGIN:STANDARD
TZOFFSETFROM:+0200
TZOFFSETTO:+0100
TZNAME:CET
DTSTART:20261025T010000
END:STANDARD
BEGIN:DAYLIGHT
TZOFFSETFROM:+0100
TZOFFSETTO:+0200
TZNAME:CEST
DTSTART:20270328T010000
END:DAYLIGHT
BEGIN:STANDARD
TZOFFSETFROM:+0200
TZOFFSETTO:+0100
TZNAME:CET
DTSTART:20271031T010000
END:STANDARD
END:VTIMEZONE
BEGIN:VEVENT
DTSTART;TZID=Europe/Berlin:20260102T200000
DTEND;TZID=Europe/Berlin:20260103T010000
DTSTAMP:20260422T143538
CREATED:20250215T185953Z
LAST-MODIFIED:20260403T210811Z
UID:1960-1767384000-1767402000@wald-cafe.com
SUMMARY:Ritmo de Salsa Januar
DESCRIPTION:Salsa\, Bachata\, Merengue\, Cha-Cha-Cha … die schönste Art durchs Leben zu tanzen. 💃 😍🎉 \nLasst uns vor einer atemberaubenden Landschaft\, von der Kraft der Musik inspiriert…die Füße wund tanzen.\nInnen und Außen Location 🌴…\nFiesta Latina mit dem Resident Dj Ardimiento. \n  \nStart 20:00 Uhr \nEintritt  8.-€
URL:https://wald-cafe.com/event/ritmo-de-salsa-01/
LOCATION:Bayern
CATEGORIES:Party
ATTACH;FMTTYPE=image/jpeg:https://wald-cafe.com/wp-content/uploads/2025/02/Rithmo-de-Salsa.jpg
END:VEVENT
BEGIN:VEVENT
DTSTART;TZID=Europe/Berlin:20260114T173000
DTEND;TZID=Europe/Berlin:20260114T183000
DTSTAMP:20260422T143538
CREATED:20250726T164130Z
LAST-MODIFIED:20251103T105258Z
UID:2165-1768411800-1768415400@wald-cafe.com
SUMMARY:Aromaabend -  KRAFT VON ÄTHERISCHEN ÖLEN
DESCRIPTION:Finde deine Balance mit der KRAFT VON ÄTHERISCHEN ÖLEN \nTauche ein in die faszinierende Welt der ätherischen Öle und entdecke\, wie du mit natürlichen Düften dein inneres Gleichgewicht stärken kannst.\nAn diesem besonderen Abend darfst du riechen\, spüren und erleben\, wie reine doTERRA-Öle auf Körper\, Geist und Seele wirken. \nGemeinsam nehmen wir uns Zeit\, um zu entschleunigen\, loszulassen und neue Energie zu tanken. Du erfährst\, wie du ätherische Öle ganz einfach in deinen Alltag integrieren kannst – für mehr Wohlbefinden\, innere Ruhe und natürliche Balance. \nWas dich erwartet: \nEinführung in die Welt der ätherischen Öle (mit doTERRA Ölen) \nSanfte Duftreisen – Erfahre ätherische Öle mit all deinen Sinnen. \nAnwendungsmöglichkeiten für Körper\, Emotionen und Energiezentren – Wie kann ich sie für meine Gesundheit einsetzen? \nZeit für Austausch\, Ausprobieren und Genießen – Wie wirken ätherische Öle? \nOb du dich nach mehr Entspannung\, Klarheit\, Energie oder innerer Stabilität sehnst – an diesem Abend findest du Impulse\, die dich auf deinem Weg begleiten. \nZur Anmeldung geht’s hier lang: \nwww.bodyandmindwork.de
URL:https://wald-cafe.com/event/finde-deine-balance-mit-der-kraft-von-aetherischen-oelen-01/
LOCATION:Bayern
ATTACH;FMTTYPE=image/jpeg:https://wald-cafe.com/wp-content/uploads/2025/07/Basisschulung2026.jpg
END:VEVENT
BEGIN:VEVENT
DTSTART;TZID=Europe/Berlin:20260116T200000
DTEND;TZID=Europe/Berlin:20260117T010000
DTSTAMP:20260422T143538
CREATED:20251102T220501Z
LAST-MODIFIED:20260403T205742Z
UID:2327-1768593600-1768611600@wald-cafe.com
SUMMARY:80s & 90s Party Januar
DESCRIPTION:Mach dich bereit für einen unvergesslichen Abend voller Nostalgie\, guter Vibes und Winterzauber! ❄️Feiere bei unserer legendären 80s/90s Party –  am Waldrand\, mitten in der Natur\, mit der besten Musik aus den 80ern und 90ern. \n🎶 Unser DJ heizt euch ein mit den größten Hits und Kultsongs – von funky bis rockig\, von Pop bis Partyklassiker. \nMach’s dir gemütlich\, bring deine Freunde mit und tanz dich warm – wir machen die Nacht zum Highlight des Winters! \n📍 Waldcafé Bad Grönenbach🕗 DJ Start: 20:00 Uhr🎟️ Eintritt frei \nLet the good vibes melt the ice – wir freuen uns auf dich! 🎉✨
URL:https://wald-cafe.com/event/80s-90s-party-01-januar/
LOCATION:Waldcafe\, Kornhofen 5\, Bad Grönenbach\, Bayern\, 87730\, Germany
CATEGORIES:Party
ATTACH;FMTTYPE=image/jpeg:https://wald-cafe.com/wp-content/uploads/2025/11/8090-Party-2026.jpg
END:VEVENT
END:VCALENDAR