BEGIN:VCALENDAR
VERSION:2.0
PRODID:-//Waldcafe Bad Grönenbach - ECPv6.15.11//NONSGML v1.0//EN
CALSCALE:GREGORIAN
METHOD:PUBLISH
X-WR-CALNAME:Waldcafe Bad Grönenbach
X-ORIGINAL-URL:https://wald-cafe.com
X-WR-CALDESC:Veranstaltungen für Waldcafe Bad Grönenbach
REFRESH-INTERVAL;VALUE=DURATION:PT1H
X-Robots-Tag:noindex
X-PUBLISHED-TTL:PT1H
BEGIN:VTIMEZONE
TZID:Europe/Berlin
BEGIN:DAYLIGHT
TZOFFSETFROM:+0100
TZOFFSETTO:+0200
TZNAME:CEST
DTSTART:20240331T010000
END:DAYLIGHT
BEGIN:STANDARD
TZOFFSETFROM:+0200
TZOFFSETTO:+0100
TZNAME:CET
DTSTART:20241027T010000
END:STANDARD
BEGIN:DAYLIGHT
TZOFFSETFROM:+0100
TZOFFSETTO:+0200
TZNAME:CEST
DTSTART:20250330T010000
END:DAYLIGHT
BEGIN:STANDARD
TZOFFSETFROM:+0200
TZOFFSETTO:+0100
TZNAME:CET
DTSTART:20251026T010000
END:STANDARD
BEGIN:DAYLIGHT
TZOFFSETFROM:+0100
TZOFFSETTO:+0200
TZNAME:CEST
DTSTART:20260329T010000
END:DAYLIGHT
BEGIN:STANDARD
TZOFFSETFROM:+0200
TZOFFSETTO:+0100
TZNAME:CET
DTSTART:20261025T010000
END:STANDARD
END:VTIMEZONE
BEGIN:VEVENT
DTSTART;TZID=Europe/Berlin:20251205T200000
DTEND;TZID=Europe/Berlin:20251206T010000
DTSTAMP:20260422T162246
CREATED:20250223T144207Z
LAST-MODIFIED:20260403T210722Z
UID:1998-1764964800-1764982800@wald-cafe.com
SUMMARY:Ritmo de Salsa Dezember
DESCRIPTION:Salsa\, Bachata\, Merengue\, Cha-Cha-Cha … die schönste Art durchs Leben zu tanzen.   \nLasst uns vor einer atemberaubenden Landschaft\, von der Kraft der Musik inspiriert…die Füße wund tanzen.\nInnen und Außen Location …\nFiesta Latina mit dem Resident Dj Ardimiento. \nStart 20:00 Uhr \nEintritt  8.-€
URL:https://wald-cafe.com/event/ritmo-de-salsa-12/
LOCATION:Waldcafe\, Kornhofen 5\, Bad Grönenbach\, Bayern\, 87730\, Germany
CATEGORIES:Party
ATTACH;FMTTYPE=image/jpeg:https://wald-cafe.com/wp-content/uploads/2025/02/RitmodeSalsa25.jpg
END:VEVENT
BEGIN:VEVENT
DTSTART;TZID=Europe/Berlin:20251210T173000
DTEND;TZID=Europe/Berlin:20251210T183000
DTSTAMP:20260422T162246
CREATED:20241018T091151Z
LAST-MODIFIED:20251103T111335Z
UID:246-1765387800-1765391400@wald-cafe.com
SUMMARY:Finde deine Balance mit der Kraft von ätherischen Ölen
DESCRIPTION:Wie wirken ätherische Öle? \nWie kann ich sie für meine Gesundheit einsetzen? \nErfahre ätherische Öle mit all deinen Sinnen. \nZur Anmeldung geht’s hier lang:\nwww.bodyandmindwork.de
URL:https://wald-cafe.com/event/finde-deine-balance-mit-der-kraft-von-aetherischen-oelen2/
LOCATION:Waldcafe\, Kornhofen 5\, Bad Grönenbach\, Bayern\, 87730\, Germany
ATTACH;FMTTYPE=image/jpeg:https://wald-cafe.com/wp-content/uploads/2024/09/doterra25.jpg
ORGANIZER;CN="Serena":MAILTO:www.bodyandmindwork.de
END:VEVENT
BEGIN:VEVENT
DTSTART;TZID=Europe/Berlin:20251213T110000
DTEND;TZID=Europe/Berlin:20251213T150000
DTSTAMP:20260422T162246
CREATED:20250223T134722Z
LAST-MODIFIED:20260403T202652Z
UID:1978-1765623600-1765638000@wald-cafe.com
SUMMARY:Kleidertauschparty & Kleiderflohmarkt Dezember
DESCRIPTION:Kleidertauschparty im Waldcafe! \nBringt einfach eure gut erhaltenen Kleidungsstücke mit und tauscht sie gegen tolle neue Teile.\nEine Anmeldung ist nicht notwendig – Ihr könnt einfach vorbei kommen. \nDamit wir am Ende nicht zu viele Kleidungsstücke übrig haben\, die wir wiederum lagern oder „loswerden“ müssen\, bitten wir euch pro Person maximal 10 Teile mitzubringen  \nWer keine Kleidung zum Tauschen hat\, kann einfach vorbei kommen und für 4\,- Euro pro Stück etwas aussuchen.\nDie Einnahmen daraus werden komplett gespendet. \nEs lohnt sich auf jeden Fall\, auch schon ab 11 Uhr da zu sein\, denn wir sammeln immer die übrigen Kleidungsstücke aus den vorherigen Veranstaltungen. Somit ist die Chance groß\, dass ihr auch schon ganz am Anfang tolle Sachen finden werdet.
URL:https://wald-cafe.com/event/kleidertauschparty-12/
LOCATION:Waldcafe\, Kornhofen 5\, Bad Grönenbach\, Bayern\, 87730\, Germany
CATEGORIES:Flohmarkt,Kleidertausch
ATTACH;FMTTYPE=image/png:https://wald-cafe.com/wp-content/uploads/2025/02/Kleidertausch-12-2025.png
END:VEVENT
END:VCALENDAR