BEGIN:VCALENDAR
VERSION:2.0
PRODID:-//Waldcafe Bad Grönenbach - ECPv6.15.11//NONSGML v1.0//EN
CALSCALE:GREGORIAN
METHOD:PUBLISH
X-WR-CALNAME:Waldcafe Bad Grönenbach
X-ORIGINAL-URL:https://wald-cafe.com
X-WR-CALDESC:Veranstaltungen für Waldcafe Bad Grönenbach
REFRESH-INTERVAL;VALUE=DURATION:PT1H
X-Robots-Tag:noindex
X-PUBLISHED-TTL:PT1H
BEGIN:VTIMEZONE
TZID:Europe/Berlin
BEGIN:DAYLIGHT
TZOFFSETFROM:+0100
TZOFFSETTO:+0200
TZNAME:CEST
DTSTART:20240331T010000
END:DAYLIGHT
BEGIN:STANDARD
TZOFFSETFROM:+0200
TZOFFSETTO:+0100
TZNAME:CET
DTSTART:20241027T010000
END:STANDARD
BEGIN:DAYLIGHT
TZOFFSETFROM:+0100
TZOFFSETTO:+0200
TZNAME:CEST
DTSTART:20250330T010000
END:DAYLIGHT
BEGIN:STANDARD
TZOFFSETFROM:+0200
TZOFFSETTO:+0100
TZNAME:CET
DTSTART:20251026T010000
END:STANDARD
BEGIN:DAYLIGHT
TZOFFSETFROM:+0100
TZOFFSETTO:+0200
TZNAME:CEST
DTSTART:20260329T010000
END:DAYLIGHT
BEGIN:STANDARD
TZOFFSETFROM:+0200
TZOFFSETTO:+0100
TZNAME:CET
DTSTART:20261025T010000
END:STANDARD
END:VTIMEZONE
BEGIN:VEVENT
DTSTART;TZID=Europe/Berlin:20250806T160000
DTEND;TZID=Europe/Berlin:20250806T180000
DTSTAMP:20260422T233440
CREATED:20250325T213356Z
LAST-MODIFIED:20250325T213356Z
UID:2045-1754496000-1754503200@wald-cafe.com
SUMMARY:Kräuter Hoigata
DESCRIPTION:Jeden 1. Mittwoch im Monat findet die Kräuter Hoigata mit der Allgäuer Wildkräuterführerin Christa Fischer statt. \nUm 16:00 geht es los mit einer Kräuterwanderung\, anschließend gibt es eine kleine Wildkräuter-Verköstigung im Waldcafé. \n  \nAnmeldung: \nchrista@kräuterkraftallgäu.de
URL:https://wald-cafe.com/event/kraeuter-hoigata-08/
LOCATION:Waldcafe\, Kornhofen 5\, Bad Grönenbach\, Bayern\, 87730\, Germany
ATTACH;FMTTYPE=image/jpeg:https://wald-cafe.com/wp-content/uploads/2024/09/Kraeuter_Hoigata_2025_1.jpg
END:VEVENT
BEGIN:VEVENT
DTSTART;TZID=Europe/Berlin:20250808T190000
DTEND;TZID=Europe/Berlin:20250808T213000
DTSTAMP:20260422T233440
CREATED:20250717T230815Z
LAST-MODIFIED:20250725T150421Z
UID:2152-1754679600-1754688600@wald-cafe.com
SUMMARY:Sommer Grillparty
DESCRIPTION:Freut euch auf einen sommerlichen Abend voller Genuss\, Gemeinschaft und Überraschungen vom Rost – ganz ohne Fleisch\, aber mit allem\, was das vegane und vegetarische Herz höherschlagen lässt. Ob würzige Spieße\, bunte Gemüsevariationen oder kreative pflanzliche Spezialitäten – hier kommt alles auf den Grill\, was Geschmack und gute Laune macht.
URL:https://wald-cafe.com/event/sommer-grillparty/
LOCATION:Waldcafe\, Kornhofen 5\, Bad Grönenbach\, Bayern\, 87730\, Germany
ATTACH;FMTTYPE=image/png:https://wald-cafe.com/wp-content/uploads/2025/07/1.png
END:VEVENT
BEGIN:VEVENT
DTSTART;TZID=Europe/Berlin:20250813T170000
DTEND;TZID=Europe/Berlin:20250813T190000
DTSTAMP:20260422T233440
CREATED:20250719T184030Z
LAST-MODIFIED:20250719T184030Z
UID:2156-1755104400-1755111600@wald-cafe.com
SUMMARY:Märchenerzählerin
DESCRIPTION:Lass dich von der Märchenerzählerin in eine Welt entführen\, in der Träume lebendig werden und alte Geschichten neues Leben atmen. In stimmungsvoller Atmosphäre öffnen sich Tore zu längst vergessenen Zeiten\, zu geheimnisvollen Wäldern\, mutigen Helden und weisen Wesen. Ihre Worte malen Bilder\, die berühren\, zum Staunen bringen und manchmal auch zum Nachdenken. Ob jung oder alt – wer lauscht\, wird verzaubert. Begib dich auf eine Reise zwischen Fantasie und Wirklichkeit und finde dich selbst in den Geschichten wieder.
URL:https://wald-cafe.com/event/maerchenerzaehlerin/
LOCATION:Waldcafe\, Kornhofen 5\, Bad Grönenbach\, Bayern\, 87730\, Germany
ATTACH;FMTTYPE=image/jpeg:https://wald-cafe.com/wp-content/uploads/2025/07/Maerchenerzaehlerin.jpg
END:VEVENT
BEGIN:VEVENT
DTSTART;TZID=Europe/Berlin:20250814T190000
DTEND;TZID=Europe/Berlin:20250814T203000
DTSTAMP:20260422T233440
CREATED:20250726T170830Z
LAST-MODIFIED:20250726T171150Z
UID:2167-1755198000-1755203400@wald-cafe.com
SUMMARY:Quiz Night
DESCRIPTION:Teste deinen Scharfsinn\, knacke die kniffligsten Fragen und erlebe mit\nuns einen Abend voller Spaß\, Rätsel und überraschender Aha-Momente. \n20 Fragen \nmax. 5 Personen Pro Gruppe \n1Euro pro Kopf in den Gewinnerpot
URL:https://wald-cafe.com/event/quiz-night/
LOCATION:Waldcafe\, Kornhofen 5\, Bad Grönenbach\, Bayern\, 87730\, Germany
ATTACH;FMTTYPE=image/png:https://wald-cafe.com/wp-content/uploads/2025/07/Quiz-Night.png
END:VEVENT
BEGIN:VEVENT
DTSTART;TZID=Europe/Berlin:20250816T183000
DTEND;TZID=Europe/Berlin:20250816T213000
DTSTAMP:20260422T233440
CREATED:20250630T200526Z
LAST-MODIFIED:20250717T230222Z
UID:2108-1755369000-1755379800@wald-cafe.com
SUMMARY:Konzert - Band: Open Range
DESCRIPTION:„Open Range“ \n-acoustic Blues and more- \nMit akustischen Instrumenten und ihren Stimmen interpretieren Uli Roidl (Gitarre\, Bluesharp\, Gesang)\, Bernhard Steinmetz (Gitarre\, Sliding-Guitar\, Foot-Percussion\, Gesang) und Martin Baldauf (Kontrabass\, Gesang) Blues und Folksongs in einem eigenen speziellen Arrangement. \nSie suchen sich Stücke\, die ihnen selbst beim Spielen besondere Freude bereiten\, die sie bei ihren Auftritten an das Publikum weitergeben wollen. Open Range bedeutet auch\, genügend Freiräume für Improvisation\, Kreativität und Überraschendes zu ermöglichen. \nMit Musik u.a. von Robert Johnson\, Elmore James\, den Allman Brothers und Songs von Eric Clapton\, Fleetwood Mac\, Randy Newman\, Van Morrison bis hin zu den Stones\, U2\, Pink Floyd uva. nehmen sie ihre Zuhörer mit auf eine Reise durch das weite Land der Musik- vom Delta-Blues der 1930er-Jahre zu Songs der letzten Dekaden. \nLassen sie sich darauf ein und genießen Sie einen stimmungsvollen Abend\, wo sie sich einfach wohlfühlen können und mitsummen oder mitsingen dürfen.
URL:https://wald-cafe.com/event/konzert-band-open-range/
LOCATION:Bayern
ATTACH;FMTTYPE=image/jpeg:https://wald-cafe.com/wp-content/uploads/2025/06/Freitag.jpg
END:VEVENT
BEGIN:VEVENT
DTSTART;TZID=Europe/Berlin:20250820T190000
DTEND;TZID=Europe/Berlin:20250820T213000
DTSTAMP:20260422T233440
CREATED:20250726T172817Z
LAST-MODIFIED:20250726T172832Z
UID:2117-1755716400-1755725400@wald-cafe.com
SUMMARY:Bingo Night
DESCRIPTION:Bingo-Abend im Waldcafé \nMach dich bereit für einen Abend voller Spaß\, Spannung und guter Laune – wir laden dich herzlich ein zum Bingo!Unter freiem Himmel\, in gemütlicher Atmosphäre und mit einem kühlen Getränk in der Hand spielen wir Bingo bis zum Sonnenuntergang. \nWann?19:00Wo?Im Waldcafé Bad Grönenbach \nOb Glückspilz oder Zahlenprofi – hier geht niemand mit leeren Händen und schon gar nicht mit leerem Herzen nach Hause. \nBei gutem Wetter im Biergarten\, sonst drinnen \nEinfach vorbeikommen\, mitspielen\, Spaß haben!
URL:https://wald-cafe.com/event/bingo-night-2/
LOCATION:Waldcafe\, Kornhofen 5\, Bad Grönenbach\, Bayern\, 87730\, Germany
ATTACH;FMTTYPE=image/png:https://wald-cafe.com/wp-content/uploads/2025/07/Quiz-Night1.png
END:VEVENT
END:VCALENDAR