BEGIN:VCALENDAR
VERSION:2.0
PRODID:-//Waldcafe Bad Grönenbach - ECPv6.15.11//NONSGML v1.0//EN
CALSCALE:GREGORIAN
METHOD:PUBLISH
X-ORIGINAL-URL:https://wald-cafe.com
X-WR-CALDESC:Veranstaltungen für Waldcafe Bad Grönenbach
REFRESH-INTERVAL;VALUE=DURATION:PT1H
X-Robots-Tag:noindex
X-PUBLISHED-TTL:PT1H
BEGIN:VTIMEZONE
TZID:Europe/Berlin
BEGIN:DAYLIGHT
TZOFFSETFROM:+0100
TZOFFSETTO:+0200
TZNAME:CEST
DTSTART:20240331T010000
END:DAYLIGHT
BEGIN:STANDARD
TZOFFSETFROM:+0200
TZOFFSETTO:+0100
TZNAME:CET
DTSTART:20241027T010000
END:STANDARD
BEGIN:DAYLIGHT
TZOFFSETFROM:+0100
TZOFFSETTO:+0200
TZNAME:CEST
DTSTART:20250330T010000
END:DAYLIGHT
BEGIN:STANDARD
TZOFFSETFROM:+0200
TZOFFSETTO:+0100
TZNAME:CET
DTSTART:20251026T010000
END:STANDARD
BEGIN:DAYLIGHT
TZOFFSETFROM:+0100
TZOFFSETTO:+0200
TZNAME:CEST
DTSTART:20260329T010000
END:DAYLIGHT
BEGIN:STANDARD
TZOFFSETFROM:+0200
TZOFFSETTO:+0100
TZNAME:CET
DTSTART:20261025T010000
END:STANDARD
END:VTIMEZONE
BEGIN:VEVENT
DTSTART;TZID=Europe/Berlin:20250702T160000
DTEND;TZID=Europe/Berlin:20250702T180000
DTSTAMP:20260423T012607
CREATED:20250325T213244Z
LAST-MODIFIED:20250325T213244Z
UID:2042-1751472000-1751479200@wald-cafe.com
SUMMARY:Kräuter Hoigata
DESCRIPTION:Jeden 1. Mittwoch im Monat findet die Kräuter Hoigata mit der Allgäuer Wildkräuterführerin Christa Fischer statt. \nUm 16:00 geht es los mit einer Kräuterwanderung\, anschließend gibt es eine kleine Wildkräuter-Verköstigung im Waldcafé. \n  \nAnmeldung: \nchrista@kräuterkraftallgäu.de
URL:https://wald-cafe.com/event/kraeuter-hoigata-07/
LOCATION:Waldcafe\, Kornhofen 5\, Bad Grönenbach\, Bayern\, 87730\, Germany
ATTACH;FMTTYPE=image/jpeg:https://wald-cafe.com/wp-content/uploads/2024/09/Kraeuter_Hoigata_2025_1.jpg
END:VEVENT
BEGIN:VEVENT
DTSTART;TZID=Europe/Berlin:20250710T190000
DTEND;TZID=Europe/Berlin:20250710T213000
DTSTAMP:20260423T012607
CREATED:20250630T214656Z
LAST-MODIFIED:20250707T125120Z
UID:2111-1752174000-1752183000@wald-cafe.com
SUMMARY:Quizz Night
DESCRIPTION:Teste deinen Scharfsinn\, knacke die kniffligsten Fragen und erlebe mit\nuns einen Abend voller Spaß\, Rätsel und überraschender Aha-Momente. \n20 Fragen \nmax. 5 Personen Pro Gruppe \n1Euro pro Kopf in den Gewinnerpot
URL:https://wald-cafe.com/event/quizz-night/
LOCATION:Waldcafe\, Kornhofen 5\, Bad Grönenbach\, Bayern\, 87730\, Germany
ATTACH;FMTTYPE=image/png:https://wald-cafe.com/wp-content/uploads/2025/06/Quiz-Night.png
END:VEVENT
BEGIN:VEVENT
DTSTART;TZID=Europe/Berlin:20250712T100000
DTEND;TZID=Europe/Berlin:20250712T160000
DTSTAMP:20260423T012607
CREATED:20250627T065004Z
LAST-MODIFIED:20250627T065004Z
UID:2105-1752314400-1752336000@wald-cafe.com
SUMMARY:Flohmarkt
DESCRIPTION:Beim bunten Flohmarkt darf jeder seine gut erhaltenen Schätze mitbringen und verkaufen – eine wunderbare Gelegenheit zum Stöbern und Finden. Keine Anmeldung – einfach vorbeikommen (Aussteller wie Besucher). Bitte alles selber mitbringen\, es wird nichts zur Verfügung gestellt (bspw. Tische o.ä.) \n\nAufbau für Austeller ab 09:00 Uhr\nFür Besucher 10:00 – 16:00 Uhr\nFood and Entertainment
URL:https://wald-cafe.com/event/flohmarkt-01/
LOCATION:Waldcafe\, Kornhofen 5\, Bad Grönenbach\, Bayern\, 87730\, Germany
ATTACH;FMTTYPE=image/png:https://wald-cafe.com/wp-content/uploads/2025/06/Flohmarkt.png
END:VEVENT
BEGIN:VEVENT
DTSTART;TZID=Europe/Berlin:20250716T190000
DTEND;TZID=Europe/Berlin:20250716T200000
DTSTAMP:20260423T012607
CREATED:20250701T074450Z
LAST-MODIFIED:20250701T075646Z
UID:2118-1752692400-1752696000@wald-cafe.com
SUMMARY:Bingo Night
DESCRIPTION:Bingo-Abend im Biergarten vom Waldcafé \nMach dich bereit für einen Abend voller Spaß\, Spannung und guter Laune – wir laden dich herzlich ein zum Bingo im Biergarten!\nUnter freiem Himmel\, in gemütlicher Atmosphäre und mit einem kühlen Getränk in der Hand spielen wir Bingo bis zum Sonnenuntergang. \nWann?\n19:00\nWo?\nIm Biergarten vom Waldcafé Bad Grönenbach \nOb Glückspilz oder Zahlenprofi – hier geht niemand mit leeren Händen und schon gar nicht mit leerem Herzen nach Hause. \nEinfach vorbeikommen\, mitspielen\, Spaß haben!\nDer Eintritt ist frei – und dein Platz wartet schon!
URL:https://wald-cafe.com/event/bingo-night/
LOCATION:Waldcafe\, Kornhofen 5\, Bad Grönenbach\, Bayern\, 87730\, Germany
ATTACH;FMTTYPE=image/jpeg:https://wald-cafe.com/wp-content/uploads/2025/07/Unbenannt-1.jpeg
END:VEVENT
BEGIN:VEVENT
DTSTART;TZID=Europe/Berlin:20250718T170000
DTEND;TZID=Europe/Berlin:20250718T220000
DTSTAMP:20260423T012607
CREATED:20250715T105550Z
LAST-MODIFIED:20250715T105550Z
UID:2140-1752858000-1752876000@wald-cafe.com
SUMMARY:Spiele-Abend
DESCRIPTION:🎉 Spieleabend – Drei Räume\, unendlich viel Spaß! 🎮🎲🏓 \nLust auf einen legendären Spieleabend? Dann seid ihr bei uns genau richtig! Wir haben für euch drei Räume\, in denen ihr euch nach Lust und Laune austoben könnt: \n🕹️ Konsolen-Arena\nHier warten XBox- und Playstation-Games auf euch – inklusive SingStar für die Musikfans! Auch Nintendo-Switch-Battles sind möglich – bringt einfach eure eigene Konsole mit! \n🎲 Brettspiel-Paradies\nVon Klassikern bis hin zu den neuesten Gesellschaftsspielen – hier könnt ihr euch in gemütlicher Runde messen. Bringt gerne eure Lieblingsspiele mit! \n⚽🍻 Action-Zone\nHier geht’s rund am Tischkicker und Bierpong-Tisch! Fordert eure Freunde heraus und zeigt\, wer die besten Skills hat! \nKommt vorbei und erlebt einen Abend voller Spaß\, Spannung und guter Stimmung! 🥳🔥 \n  \n📍 Waldcafe – Kornhofen 5 – 87730 Bad Grönenbach\n📅 18.07.2025 – ab 17:00 Uhr
URL:https://wald-cafe.com/event/spiele-abend/
LOCATION:Waldcafe\, Kornhofen 5\, Bad Grönenbach\, Bayern\, 87730\, Germany
ATTACH;FMTTYPE=image/png:https://wald-cafe.com/wp-content/uploads/2025/07/Spieleabend.png
END:VEVENT
BEGIN:VEVENT
DTSTART;TZID=Europe/Berlin:20250724T190000
DTEND;TZID=Europe/Berlin:20250724T213000
DTSTAMP:20260423T012607
CREATED:20250701T095352Z
LAST-MODIFIED:20250701T095445Z
UID:2123-1753383600-1753392600@wald-cafe.com
SUMMARY:Alphornbläser
DESCRIPTION:Alphornklänge im Biergarten – Ein Abend voller Tradition und Stimmung \nErlebt einen ganz besonderen Abend im Biergarten des Waldcafés!Wenn die Sonne langsam untergeht und die Natur zur Ruhe kommt\, erklingen die majestätischen Töne der Alphörner und erfüllen die Abendluft mit kraftvoller Stille und alpenländischem Zauber. \nKommt vorbei und genießt die einzigartige Atmosphäre – ein musikalisches Erlebnis voller Tradition\, Heimatgefühl und geselliger Stimmung.Dazu gibt’s kühle Getränke\, feine Brotzeiten und die beste Aussicht ins Grüne. \nGemütlichkeit garantiert – wir freuen uns auf euch!
URL:https://wald-cafe.com/event/alphornblaeser/
LOCATION:Bayern
ATTACH;FMTTYPE=image/jpeg:https://wald-cafe.com/wp-content/uploads/2025/07/Alphornblaeser.jpg
END:VEVENT
END:VCALENDAR