BEGIN:VCALENDAR
VERSION:2.0
PRODID:-//Waldcafe Bad Grönenbach - ECPv6.15.11//NONSGML v1.0//EN
CALSCALE:GREGORIAN
METHOD:PUBLISH
X-WR-CALNAME:Waldcafe Bad Grönenbach
X-ORIGINAL-URL:https://wald-cafe.com
X-WR-CALDESC:Veranstaltungen für Waldcafe Bad Grönenbach
REFRESH-INTERVAL;VALUE=DURATION:PT1H
X-Robots-Tag:noindex
X-PUBLISHED-TTL:PT1H
BEGIN:VTIMEZONE
TZID:Europe/Berlin
BEGIN:DAYLIGHT
TZOFFSETFROM:+0100
TZOFFSETTO:+0200
TZNAME:CEST
DTSTART:20250330T010000
END:DAYLIGHT
BEGIN:STANDARD
TZOFFSETFROM:+0200
TZOFFSETTO:+0100
TZNAME:CET
DTSTART:20251026T010000
END:STANDARD
BEGIN:DAYLIGHT
TZOFFSETFROM:+0100
TZOFFSETTO:+0200
TZNAME:CEST
DTSTART:20260329T010000
END:DAYLIGHT
BEGIN:STANDARD
TZOFFSETFROM:+0200
TZOFFSETTO:+0100
TZNAME:CET
DTSTART:20261025T010000
END:STANDARD
BEGIN:DAYLIGHT
TZOFFSETFROM:+0100
TZOFFSETTO:+0200
TZNAME:CEST
DTSTART:20270328T010000
END:DAYLIGHT
BEGIN:STANDARD
TZOFFSETFROM:+0200
TZOFFSETTO:+0100
TZNAME:CET
DTSTART:20271031T010000
END:STANDARD
END:VTIMEZONE
BEGIN:VEVENT
DTSTART;TZID=Europe/Berlin:20260918T200000
DTEND;TZID=Europe/Berlin:20260919T010000
DTSTAMP:20260422T195143
CREATED:20251103T090533Z
LAST-MODIFIED:20260403T205246Z
UID:2339-1789761600-1789779600@wald-cafe.com
SUMMARY:80s & 90s Party END of Summer
DESCRIPTION:Der Sommer neigt sich dem Ende und damit auch unsere Sunset-Abende. Am 18. September feiern wir ein letztes Mal in den Sonnenuntergang. Danach war’s das erstmal mit Sunset – Die 80s/90s Party findet allerdings weiterhin monatlich statt! \nMach dich bereit für einen unvergesslichen Abend voller Nostalgie\, guter Vibes und Sonnenuntergangszauber! Feiere bei unserer legendären 80s/90s  Sunset Party – direkt am Waldrand\, mitten in der Natur\, mit bester Aussicht und noch besserer Musik. \nUnser DJ heizt euch ordentlich ein mit dem besten Sound der 80er und 90er – von funky bis kultig\, von Pop bis Rock. \nDazu gibt’s erfrischende Drinks wie Aperol Spritz\, Sarti Spritz und andere Sommerlieblinge an unserer Bar.\nLeckere Snacks und das unvergleichliche Ambiente sorgen für den perfekten Start ins Wochenende. \nCoole Leute\, lässige Stimmung und Sonnenuntergangs-Vibes mitten in der Natur – besser kann der Sommer nicht sein!\nKomm vorbei\, bring deine Freunde mit – und feiere mit uns den Sommer! \nWaldcafé Bad Grönenbach\nDJ start 20:00 Uhr\nEintritt frei \nLet the sunset set the vibe – wir freuen uns auf dich!
URL:https://wald-cafe.com/event/80s-90s-party-09-september/
LOCATION:Bayern
CATEGORIES:Party
ATTACH;FMTTYPE=image/jpeg:https://wald-cafe.com/wp-content/uploads/2025/11/8090-Party-2026.jpg
END:VEVENT
END:VCALENDAR