BEGIN:VCALENDAR
VERSION:2.0
PRODID:-//Waldcafe Bad Grönenbach - ECPv6.15.11//NONSGML v1.0//EN
CALSCALE:GREGORIAN
METHOD:PUBLISH
X-WR-CALNAME:Waldcafe Bad Grönenbach
X-ORIGINAL-URL:https://wald-cafe.com
X-WR-CALDESC:Veranstaltungen für Waldcafe Bad Grönenbach
REFRESH-INTERVAL;VALUE=DURATION:PT1H
X-Robots-Tag:noindex
X-PUBLISHED-TTL:PT1H
BEGIN:VTIMEZONE
TZID:Europe/Berlin
BEGIN:DAYLIGHT
TZOFFSETFROM:+0100
TZOFFSETTO:+0200
TZNAME:CEST
DTSTART:20250330T010000
END:DAYLIGHT
BEGIN:STANDARD
TZOFFSETFROM:+0200
TZOFFSETTO:+0100
TZNAME:CET
DTSTART:20251026T010000
END:STANDARD
BEGIN:DAYLIGHT
TZOFFSETFROM:+0100
TZOFFSETTO:+0200
TZNAME:CEST
DTSTART:20260329T010000
END:DAYLIGHT
BEGIN:STANDARD
TZOFFSETFROM:+0200
TZOFFSETTO:+0100
TZNAME:CET
DTSTART:20261025T010000
END:STANDARD
BEGIN:DAYLIGHT
TZOFFSETFROM:+0100
TZOFFSETTO:+0200
TZNAME:CEST
DTSTART:20270328T010000
END:DAYLIGHT
BEGIN:STANDARD
TZOFFSETFROM:+0200
TZOFFSETTO:+0100
TZNAME:CET
DTSTART:20271031T010000
END:STANDARD
END:VTIMEZONE
BEGIN:VEVENT
DTSTART;TZID=Europe/Berlin:20260513T080000
DTEND;TZID=Europe/Berlin:20260513T170000
DTSTAMP:20260420T164546
CREATED:20251103T103345Z
LAST-MODIFIED:20251103T110331Z
UID:2364-1778659200-1778691600@wald-cafe.com
SUMMARY:Aromaabend -  KRAFT VON ÄTHERISCHEN ÖLEN
DESCRIPTION:Finde deine Balance mit der KRAFT VON ÄTHERISCHEN ÖLEN \nTauche ein in die faszinierende Welt der ätherischen Öle und entdecke\, wie du mit natürlichen Düften dein inneres Gleichgewicht stärken kannst.\nAn diesem besonderen Abend darfst du riechen\, spüren und erleben\, wie reine doTERRA-Öle auf Körper\, Geist und Seele wirken. \nGemeinsam nehmen wir uns Zeit\, um zu entschleunigen\, loszulassen und neue Energie zu tanken. Du erfährst\, wie du ätherische Öle ganz einfach in deinen Alltag integrieren kannst – für mehr Wohlbefinden\, innere Ruhe und natürliche Balance. \nWas dich erwartet: \nEinführung in die Welt der ätherischen Öle (mit doTERRA Ölen) \nSanfte Duftreisen – Erfahre ätherische Öle mit all deinen Sinnen. \nAnwendungsmöglichkeiten für Körper\, Emotionen und Energiezentren – Wie kann ich sie für meine Gesundheit einsetzen? \nZeit für Austausch\, Ausprobieren und Genießen – Wie wirken ätherische Öle? \nOb du dich nach mehr Entspannung\, Klarheit\, Energie oder innerer Stabilität sehnst – an diesem Abend findest du Impulse\, die dich auf deinem Weg begleiten. \nZur Anmeldung geht’s hier lang: \nwww.bodyandmindwork.de
URL:https://wald-cafe.com/event/aromaabend-kraft-von-aetherischen-oelen-05/
LOCATION:Waldcafe\, Kornhofen 5\, Bad Grönenbach\, Bayern\, 87730\, Germany
ATTACH;FMTTYPE=image/jpeg:https://wald-cafe.com/wp-content/uploads/2025/07/Basisschulung2026.jpg
ORGANIZER;CN="Serena":MAILTO:www.bodyandmindwork.de
END:VEVENT
END:VCALENDAR