BEGIN:VCALENDAR
VERSION:2.0
PRODID:-//Waldcafe Bad Grönenbach - ECPv6.15.11//NONSGML v1.0//EN
CALSCALE:GREGORIAN
METHOD:PUBLISH
X-ORIGINAL-URL:https://wald-cafe.com
X-WR-CALDESC:Veranstaltungen für Waldcafe Bad Grönenbach
REFRESH-INTERVAL;VALUE=DURATION:PT1H
X-Robots-Tag:noindex
X-PUBLISHED-TTL:PT1H
BEGIN:VTIMEZONE
TZID:Europe/Berlin
BEGIN:DAYLIGHT
TZOFFSETFROM:+0100
TZOFFSETTO:+0200
TZNAME:CEST
DTSTART:20240331T010000
END:DAYLIGHT
BEGIN:STANDARD
TZOFFSETFROM:+0200
TZOFFSETTO:+0100
TZNAME:CET
DTSTART:20241027T010000
END:STANDARD
BEGIN:DAYLIGHT
TZOFFSETFROM:+0100
TZOFFSETTO:+0200
TZNAME:CEST
DTSTART:20250330T010000
END:DAYLIGHT
BEGIN:STANDARD
TZOFFSETFROM:+0200
TZOFFSETTO:+0100
TZNAME:CET
DTSTART:20251026T010000
END:STANDARD
BEGIN:DAYLIGHT
TZOFFSETFROM:+0100
TZOFFSETTO:+0200
TZNAME:CEST
DTSTART:20260329T010000
END:DAYLIGHT
BEGIN:STANDARD
TZOFFSETFROM:+0200
TZOFFSETTO:+0100
TZNAME:CET
DTSTART:20261025T010000
END:STANDARD
END:VTIMEZONE
BEGIN:VEVENT
DTSTART;TZID=Europe/Berlin:20250724T190000
DTEND;TZID=Europe/Berlin:20250724T213000
DTSTAMP:20260423T031239
CREATED:20250701T095352Z
LAST-MODIFIED:20250701T095445Z
UID:2123-1753383600-1753392600@wald-cafe.com
SUMMARY:Alphornbläser
DESCRIPTION:Alphornklänge im Biergarten – Ein Abend voller Tradition und Stimmung \nErlebt einen ganz besonderen Abend im Biergarten des Waldcafés!Wenn die Sonne langsam untergeht und die Natur zur Ruhe kommt\, erklingen die majestätischen Töne der Alphörner und erfüllen die Abendluft mit kraftvoller Stille und alpenländischem Zauber. \nKommt vorbei und genießt die einzigartige Atmosphäre – ein musikalisches Erlebnis voller Tradition\, Heimatgefühl und geselliger Stimmung.Dazu gibt’s kühle Getränke\, feine Brotzeiten und die beste Aussicht ins Grüne. \nGemütlichkeit garantiert – wir freuen uns auf euch!
URL:https://wald-cafe.com/event/alphornblaeser/
LOCATION:Bayern
ATTACH;FMTTYPE=image/jpeg:https://wald-cafe.com/wp-content/uploads/2025/07/Alphornblaeser.jpg
END:VEVENT
END:VCALENDAR