BEGIN:VCALENDAR
VERSION:2.0
PRODID:-//Waldcafe Bad Grönenbach - ECPv6.15.11//NONSGML v1.0//EN
CALSCALE:GREGORIAN
METHOD:PUBLISH
X-WR-CALNAME:Waldcafe Bad Grönenbach
X-ORIGINAL-URL:https://wald-cafe.com
X-WR-CALDESC:Veranstaltungen für Waldcafe Bad Grönenbach
REFRESH-INTERVAL;VALUE=DURATION:PT1H
X-Robots-Tag:noindex
X-PUBLISHED-TTL:PT1H
BEGIN:VTIMEZONE
TZID:Europe/Berlin
BEGIN:DAYLIGHT
TZOFFSETFROM:+0100
TZOFFSETTO:+0200
TZNAME:CEST
DTSTART:20240331T010000
END:DAYLIGHT
BEGIN:STANDARD
TZOFFSETFROM:+0200
TZOFFSETTO:+0100
TZNAME:CET
DTSTART:20241027T010000
END:STANDARD
BEGIN:DAYLIGHT
TZOFFSETFROM:+0100
TZOFFSETTO:+0200
TZNAME:CEST
DTSTART:20250330T010000
END:DAYLIGHT
BEGIN:STANDARD
TZOFFSETFROM:+0200
TZOFFSETTO:+0100
TZNAME:CET
DTSTART:20251026T010000
END:STANDARD
BEGIN:DAYLIGHT
TZOFFSETFROM:+0100
TZOFFSETTO:+0200
TZNAME:CEST
DTSTART:20260329T010000
END:DAYLIGHT
BEGIN:STANDARD
TZOFFSETFROM:+0200
TZOFFSETTO:+0100
TZNAME:CET
DTSTART:20261025T010000
END:STANDARD
END:VTIMEZONE
BEGIN:VEVENT
DTSTART;TZID=Europe/Berlin:20250516T170000
DTEND;TZID=Europe/Berlin:20250516T230000
DTSTAMP:20260423T070437
CREATED:20250514T073511Z
LAST-MODIFIED:20250514T073554Z
UID:2069-1747414800-1747436400@wald-cafe.com
SUMMARY:Spieleabend
DESCRIPTION:🎉 Spieleabend – Drei Räume\, unendlich viel Spaß! 🎮🎲🏓 \nLust auf einen legendären Spieleabend? Dann seid ihr bei uns genau richtig! Wir haben für euch drei Räume\, in denen ihr euch nach Lust und Laune austoben könnt: \n🕹️ Konsolen-Arena\nHier warten XBox- und Playstation-Games auf euch – inklusive SingStar für die Musikfans! Auch Nintendo-Switch-Battles sind möglich – bringt einfach eure eigene Konsole mit! \n🎲 Brettspiel-Paradies\nVon Klassikern bis hin zu den neuesten Gesellschaftsspielen – hier könnt ihr euch in gemütlicher Runde messen. Bringt gerne eure Lieblingsspiele mit! \n⚽🍻 Action-Zone\nHier geht’s rund am Tischkicker und Bierpong-Tisch! Fordert eure Freunde heraus und zeigt\, wer die besten Skills hat! \nKommt vorbei und erlebt einen Abend voller Spaß\, Spannung und guter Stimmung! 🥳🔥 \n  \n📍 Waldcafe – Kornhofen 5 – 87730 Bad Grönenbach\n📅 16.05.2025 – ab 17:00 Uhr
URL:https://wald-cafe.com/event/spieleabend-16-05/
LOCATION:Waldcafe\, Kornhofen 5\, Bad Grönenbach\, Bayern\, 87730\, Germany
ATTACH;FMTTYPE=image/jpeg:https://wald-cafe.com/wp-content/uploads/2025/05/WhatsApp-Image-2025-05-14-at-09.16.14.jpeg
END:VEVENT
END:VCALENDAR