BEGIN:VCALENDAR
VERSION:2.0
PRODID:-//Waldcafe Bad Grönenbach - ECPv6.15.11//NONSGML v1.0//EN
CALSCALE:GREGORIAN
METHOD:PUBLISH
X-ORIGINAL-URL:https://wald-cafe.com
X-WR-CALDESC:Veranstaltungen für Waldcafe Bad Grönenbach
REFRESH-INTERVAL;VALUE=DURATION:PT1H
X-Robots-Tag:noindex
X-PUBLISHED-TTL:PT1H
BEGIN:VTIMEZONE
TZID:Europe/Berlin
BEGIN:DAYLIGHT
TZOFFSETFROM:+0100
TZOFFSETTO:+0200
TZNAME:CEST
DTSTART:20240331T010000
END:DAYLIGHT
BEGIN:STANDARD
TZOFFSETFROM:+0200
TZOFFSETTO:+0100
TZNAME:CET
DTSTART:20241027T010000
END:STANDARD
BEGIN:DAYLIGHT
TZOFFSETFROM:+0100
TZOFFSETTO:+0200
TZNAME:CEST
DTSTART:20250330T010000
END:DAYLIGHT
BEGIN:STANDARD
TZOFFSETFROM:+0200
TZOFFSETTO:+0100
TZNAME:CET
DTSTART:20251026T010000
END:STANDARD
BEGIN:DAYLIGHT
TZOFFSETFROM:+0100
TZOFFSETTO:+0200
TZNAME:CEST
DTSTART:20260329T010000
END:DAYLIGHT
BEGIN:STANDARD
TZOFFSETFROM:+0200
TZOFFSETTO:+0100
TZNAME:CET
DTSTART:20261025T010000
END:STANDARD
END:VTIMEZONE
BEGIN:VEVENT
DTSTART;TZID=Europe/Berlin:20250322T100000
DTEND;TZID=Europe/Berlin:20250322T140000
DTSTAMP:20260423T105752
CREATED:20241018T090203Z
LAST-MODIFIED:20250219T090810Z
UID:242-1742637600-1742652000@wald-cafe.com
SUMMARY:ÄTHERISCHE ÖLE erleben
DESCRIPTION:Samstag 22.03 10:00 Uhr \nAn vielen Stationen wird dir gezeigt\, wie ätherische Öle \nim Alltag dein Leben unterstützen können: \n\nbeim fit bleiben\nbeim Kochen\nbeim entspannen\nbei beleben\nbeim Trinken\nbeim Putzen\n…..\n\nBaue selber deine Mischungen die für deinen persönlichen Bedarf \nbenötigt werden. \nWie wirken ätherische Öle? \nWie kann ich sie für meine Gesundheit einsetzen? \nErfahre ätherische Öle mit all deinen Sinnen. \nZur Anmeldung geht’s hier lang:\nwww.bodyandmindwork.de
URL:https://wald-cafe.com/event/diy-oelestationen/
LOCATION:Waldcafe\, Kornhofen 5\, Bad Grönenbach\, Bayern\, 87730\, Germany
ATTACH;FMTTYPE=image/jpeg:https://wald-cafe.com/wp-content/uploads/2024/10/DoterraDIY.jpeg
ORGANIZER;CN="Serena":MAILTO:www.bodyandmindwork.de
END:VEVENT
END:VCALENDAR